BEGIN:VCALENDAR
VERSION:2.0
PRODID:spatie/icalendar-generator
DESCRIPTION:Events from Southern Adirondack Library System
X-WR-CALDESC:Events from Southern Adirondack Library System
REFRESH-INTERVAL;VALUE=DURATION:PT1440M
X-PUBLISHED-TTL:PT1440M
BEGIN:VTIMEZONE
TZID:America/New_York
BEGIN:STANDARD
DTSTART:20251102T020000Z
TZOFFSETFROM:-0400
TZOFFSETTO:-0500
END:STANDARD
BEGIN:DAYLIGHT
DTSTART:20260308T020000Z
TZOFFSETFROM:-0500
TZOFFSETTO:-0400
END:DAYLIGHT
BEGIN:STANDARD
DTSTART:20261101T020000Z
TZOFFSETFROM:-0400
TZOFFSETTO:-0500
END:STANDARD
END:VTIMEZONE
BEGIN:VTIMEZONE
TZID:UTC
BEGIN:STANDARD
DTSTART:20250729T001740Z
TZOFFSETFROM:+0000
TZOFFSETTO:+0000
END:STANDARD
END:VTIMEZONE
BEGIN:VEVENT
UID:54-8
DTSTAMP:20260425T001740Z
SUMMARY:Library Accessibility 101: Because People with Disabilities Need Li
 braries  Online
LOCATION:
ORGANIZER;CN=jscott:MAILTO:jscott@sals.edu
DTSTART;TZID=America/New_York:20260508T100000
DTEND;TZID=America/New_York:20260508T110000
X-ALT-DESC;FMTTYPE=TEXT/HTML:Library Accessibility 101: Because People with
  Disabilities Need Libraries  Online This presentation will provide some 
 basic knowledge on disability etiquette and discuss the pivotal role libra
 ries play for people with disabilities. We will also discuss some challeng
 es libraries face such as service animals vs. emotional support animals\, 
 disability that manifests in behavioral issues that may&amp;hellip\;
CATEGORIES:General
URL;VALUE=URI:https://salsdev.sals.edu/mc-events/library-accessibility-101-
 because-people-with-disabilities-need-libraries-online/
METHOD:PUBLISH
END:VEVENT
END:VCALENDAR