BEGIN:VCALENDAR
VERSION:2.0
PRODID:spatie/icalendar-generator
DESCRIPTION:Events from Southern Adirondack Library System
X-WR-CALDESC:Events from Southern Adirondack Library System
REFRESH-INTERVAL;VALUE=DURATION:PT1440M
X-PUBLISHED-TTL:PT1440M
BEGIN:VTIMEZONE
TZID:America/New_York
BEGIN:STANDARD
DTSTART:20251102T020000Z
TZOFFSETFROM:-0400
TZOFFSETTO:-0500
END:STANDARD
BEGIN:DAYLIGHT
DTSTART:20260308T020000Z
TZOFFSETFROM:-0500
TZOFFSETTO:-0400
END:DAYLIGHT
BEGIN:STANDARD
DTSTART:20261101T020000Z
TZOFFSETFROM:-0400
TZOFFSETTO:-0500
END:STANDARD
END:VTIMEZONE
BEGIN:VTIMEZONE
TZID:UTC
BEGIN:STANDARD
DTSTART:20250728T225345Z
TZOFFSETFROM:+0000
TZOFFSETTO:+0000
END:STANDARD
END:VTIMEZONE
BEGIN:VEVENT
UID:55-9
DTSTAMP:20260424T225345Z
SUMMARY:John Brown in New York with Author Sandra Weber
LOCATION:
ORGANIZER;CN=jscott:MAILTO:jscott@sals.edu
DTSTART;TZID=America/New_York:20260508T120000
DTEND;TZID=America/New_York:20260508T130000
X-ALT-DESC;FMTTYPE=TEXT/HTML:John Brown in New York with Author Sandra Webe
 r Online Historian and author Sandra Weber presents a webinar about her ne
 west book\, John Brown in New York: The Man\, His Family\, and the Adiron
 dack Landscape. Weber offers a fresh and intimate look at the famed abolit
 ionist\, focusing on the years of the Brown family’s connection with N
 orth Elba\,&amp;hellip\;
CATEGORIES:General
URL;VALUE=URI:https://salsdev.sals.edu/mc-events/john-brown-in-new-york-wit
 h-author-sandra-weber/
METHOD:PUBLISH
END:VEVENT
END:VCALENDAR