BEGIN:VCALENDAR
VERSION:2.0
PRODID:spatie/icalendar-generator
DESCRIPTION:Events from Southern Adirondack Library System
X-WR-CALDESC:Events from Southern Adirondack Library System
REFRESH-INTERVAL;VALUE=DURATION:PT1440M
X-PUBLISHED-TTL:PT1440M
BEGIN:VTIMEZONE
TZID:America/New_York
BEGIN:STANDARD
DTSTART:20251102T020000Z
TZOFFSETFROM:-0400
TZOFFSETTO:-0500
END:STANDARD
BEGIN:DAYLIGHT
DTSTART:20260308T020000Z
TZOFFSETFROM:-0500
TZOFFSETTO:-0400
END:DAYLIGHT
BEGIN:STANDARD
DTSTART:20261101T020000Z
TZOFFSETFROM:-0400
TZOFFSETTO:-0500
END:STANDARD
END:VTIMEZONE
BEGIN:VTIMEZONE
TZID:UTC
BEGIN:STANDARD
DTSTART:20250728T091528Z
TZOFFSETFROM:+0000
TZOFFSETTO:+0000
END:STANDARD
END:VTIMEZONE
BEGIN:VEVENT
UID:57-10
DTSTAMP:20260424T091528Z
SUMMARY:Help Everyone Unearth their Story at Your Library!
LOCATION:
ORGANIZER;CN=jscott:MAILTO:jscott@sals.edu
DTSTART;TZID=America/New_York:20260518T133000
DTEND;TZID=America/New_York:20260518T143000
X-ALT-DESC;FMTTYPE=TEXT/HTML:Help Everyone Unearth their Story at Your Libr
 ary! Online &amp;nbsp\; Summertime is funtime!  We get to do things we don't 
 normally do\, go to camp\, go swimming\, see our friends\, hang out at the
  library and make some crafts. Right?  Unless we are neurodivergent or ha
 ve a disability or just struggle to fit the mold. &amp;hellip\;
CATEGORIES:General
URL;VALUE=URI:https://salsdev.sals.edu/mc-events/help-everyone-unearth-thei
 r-story-at-your-library/
METHOD:PUBLISH
END:VEVENT
END:VCALENDAR